BEGIN:VCALENDAR
VERSION:2.0
PRODID:-//Come Play With The Saturday Golf Nuts - ECPv6.15.20//NONSGML v1.0//EN
CALSCALE:GREGORIAN
METHOD:PUBLISH
X-WR-CALNAME:Come Play With The Saturday Golf Nuts
X-ORIGINAL-URL:https://saturdaygolfnuts.com
X-WR-CALDESC:Events for Come Play With The Saturday Golf Nuts
REFRESH-INTERVAL;VALUE=DURATION:PT1H
X-Robots-Tag:noindex
X-PUBLISHED-TTL:PT1H
BEGIN:VTIMEZONE
TZID:America/Los_Angeles
BEGIN:DAYLIGHT
TZOFFSETFROM:-0800
TZOFFSETTO:-0700
TZNAME:PDT
DTSTART:20250309T100000
END:DAYLIGHT
BEGIN:STANDARD
TZOFFSETFROM:-0700
TZOFFSETTO:-0800
TZNAME:PST
DTSTART:20251102T090000
END:STANDARD
BEGIN:DAYLIGHT
TZOFFSETFROM:-0800
TZOFFSETTO:-0700
TZNAME:PDT
DTSTART:20260308T100000
END:DAYLIGHT
BEGIN:STANDARD
TZOFFSETFROM:-0700
TZOFFSETTO:-0800
TZNAME:PST
DTSTART:20261101T090000
END:STANDARD
BEGIN:DAYLIGHT
TZOFFSETFROM:-0800
TZOFFSETTO:-0700
TZNAME:PDT
DTSTART:20270314T100000
END:DAYLIGHT
BEGIN:STANDARD
TZOFFSETFROM:-0700
TZOFFSETTO:-0800
TZNAME:PST
DTSTART:20271107T090000
END:STANDARD
END:VTIMEZONE
BEGIN:VEVENT
DTSTART;TZID=America/Los_Angeles:20260221T070000
DTEND;TZID=America/Los_Angeles:20260221T100000
DTSTAMP:20260423T172125
CREATED:20241217T203853Z
LAST-MODIFIED:20260113T041034Z
UID:5663-1771657200-1771668000@saturdaygolfnuts.com
SUMMARY:9 Holes @ Bing Maloney (Sunrise)
DESCRIPTION:
URL:https://saturdaygolfnuts.com/event/9-holes-bing-maloney-sunrise-3/
LOCATION:Bing Maloney Golf Course\, 6801 Freeport Blvd\, Sacramento\, CA\, 95822\, United States
CATEGORIES:Off Season 9 hole events
END:VEVENT
END:VCALENDAR