BEGIN:VCALENDAR
VERSION:2.0
PRODID:-//Come Play With The Saturday Golf Nuts - ECPv6.15.20//NONSGML v1.0//EN
CALSCALE:GREGORIAN
METHOD:PUBLISH
X-WR-CALNAME:Come Play With The Saturday Golf Nuts
X-ORIGINAL-URL:https://saturdaygolfnuts.com
X-WR-CALDESC:Events for Come Play With The Saturday Golf Nuts
REFRESH-INTERVAL;VALUE=DURATION:PT1H
X-Robots-Tag:noindex
X-PUBLISHED-TTL:PT1H
BEGIN:VTIMEZONE
TZID:America/Los_Angeles
BEGIN:DAYLIGHT
TZOFFSETFROM:-0800
TZOFFSETTO:-0700
TZNAME:PDT
DTSTART:20250309T100000
END:DAYLIGHT
BEGIN:STANDARD
TZOFFSETFROM:-0700
TZOFFSETTO:-0800
TZNAME:PST
DTSTART:20251102T090000
END:STANDARD
BEGIN:DAYLIGHT
TZOFFSETFROM:-0800
TZOFFSETTO:-0700
TZNAME:PDT
DTSTART:20260308T100000
END:DAYLIGHT
BEGIN:STANDARD
TZOFFSETFROM:-0700
TZOFFSETTO:-0800
TZNAME:PST
DTSTART:20261101T090000
END:STANDARD
BEGIN:DAYLIGHT
TZOFFSETFROM:-0800
TZOFFSETTO:-0700
TZNAME:PDT
DTSTART:20270314T100000
END:DAYLIGHT
BEGIN:STANDARD
TZOFFSETFROM:-0700
TZOFFSETTO:-0800
TZNAME:PST
DTSTART:20271107T090000
END:STANDARD
END:VTIMEZONE
BEGIN:VEVENT
DTSTART;TZID=America/Los_Angeles:20260425T100000
DTEND;TZID=America/Los_Angeles:20260425T160000
DTSTAMP:20260423T144932
CREATED:20220310T071340Z
LAST-MODIFIED:20260105T211855Z
UID:5156-1777111200-1777132800@saturdaygolfnuts.com
SUMMARY:18 Holes @ Elkhorn Golf Course
DESCRIPTION:
URL:https://saturdaygolfnuts.com/event/elkhorn-golf-course/
LOCATION:Elkhorn Golf Course\, 1050 Elkhorn Dr\, Stockton\, 95209\, United States
CATEGORIES:18 Hole Tournaments
END:VEVENT
BEGIN:VEVENT
DTSTART;TZID=America/Los_Angeles:20260523T110000
DTEND;TZID=America/Los_Angeles:20260523T170000
DTSTAMP:20260423T144932
CREATED:20230207T065809Z
LAST-MODIFIED:20260105T211034Z
UID:5443-1779534000-1779555600@saturdaygolfnuts.com
SUMMARY:18 Holes @ Wildhorse at 11:00 am
DESCRIPTION:
URL:https://saturdaygolfnuts.com/event/18-hole-wildhorse/
LOCATION:Wildhorse Golf Course\, 2323 Rockwell Dr\, Davis\, CA\, 95618\, United States
CATEGORIES:18 Hole Tournaments
END:VEVENT
BEGIN:VEVENT
DTSTART;TZID=America/Los_Angeles:20260613T120000
DTEND;TZID=America/Los_Angeles:20260613T173000
DTSTAMP:20260423T144932
CREATED:20220316T043827Z
LAST-MODIFIED:20260415T205449Z
UID:5174-1781352000-1781371800@saturdaygolfnuts.com
SUMMARY:1st Mid-Major 18 Holes @ Mather Field at Noon
DESCRIPTION:
URL:https://saturdaygolfnuts.com/event/18-holes-mather/
LOCATION:Mather Golf Course\, 4103 Zinfandel Dr\, Mather\, CA\, 95655\, United States
CATEGORIES:18 Hole Tournaments,Mid-Major Event
END:VEVENT
BEGIN:VEVENT
DTSTART;TZID=America/Los_Angeles:20260627T100000
DTEND;TZID=America/Los_Angeles:20260627T163000
DTSTAMP:20260423T144932
CREATED:20220316T045422Z
LAST-MODIFIED:20260105T210714Z
UID:5178-1782554400-1782577800@saturdaygolfnuts.com
SUMMARY:18 Holes event @ Turkey Creek
DESCRIPTION:This is an 10:00 am start Check-in by 9:30am
URL:https://saturdaygolfnuts.com/event/18-holes-turkey-creek/
LOCATION:Turkey Creek Golf Club\, 1525 CA-193\, Lincoln\, CA\, 95648\, United States
CATEGORIES:18 Hole Tournaments,Mid-Major Event
END:VEVENT
BEGIN:VEVENT
DTSTART;TZID=America/Los_Angeles:20260725T010000
DTEND;TZID=America/Los_Angeles:20260725T173000
DTSTAMP:20260423T144932
CREATED:20230813T033925Z
LAST-MODIFIED:20260105T204507Z
UID:5487-1784941200-1785000600@saturdaygolfnuts.com
SUMMARY:18 Holes @ Poppy Ridge
DESCRIPTION:
URL:https://saturdaygolfnuts.com/event/poppy-ridge/
LOCATION:Poppy Ridge\, 4280 Greenville Rd\, Livermore\, Livermore\, 94550\, United States
CATEGORIES:18 Hole Tournaments
END:VEVENT
BEGIN:VEVENT
DTSTART;TZID=America/Los_Angeles:20260822T130000
DTEND;TZID=America/Los_Angeles:20260822T183000
DTSTAMP:20260423T144932
CREATED:20220310T070338Z
LAST-MODIFIED:20260105T202914Z
UID:5147-1787403600-1787423400@saturdaygolfnuts.com
SUMMARY:18 Holes @ Wildhawk Golf Course at 1:00 pm
DESCRIPTION:
URL:https://saturdaygolfnuts.com/event/18-holes-wildhawk/
LOCATION:WildHawk Golf Course\, 7713 Vineyard Rd\, Sacramento\, CA\, 95829\, United States
CATEGORIES:18 Hole Tournaments
END:VEVENT
BEGIN:VEVENT
DTSTART;TZID=America/Los_Angeles:20261024T100000
DTEND;TZID=America/Los_Angeles:20261024T160000
DTSTAMP:20260423T144932
CREATED:20220316T045634Z
LAST-MODIFIED:20260105T205712Z
UID:5180-1792836000-1792857600@saturdaygolfnuts.com
SUMMARY:First Round of SGN Club Championship at Bartley
DESCRIPTION:First round of club Championship combined with normal 18 hole play.
URL:https://saturdaygolfnuts.com/event/1st-round-of-sgn-club-championship/
LOCATION:Bartley Cavanaugh Golf Course\, 8301 Freeport Blvd\, Sacramento\, CA\, 95832\, United States
CATEGORIES:SGN Club Championship
END:VEVENT
BEGIN:VEVENT
DTSTART;TZID=America/Los_Angeles:20261031T100000
DTEND;TZID=America/Los_Angeles:20261031T170000
DTSTAMP:20260423T144932
CREATED:20230813T040034Z
LAST-MODIFIED:20260105T205106Z
UID:5501-1793440800-1793466000@saturdaygolfnuts.com
SUMMARY:First Round of SGN Club Championship @ Rancho Murieta
DESCRIPTION:Top 16 compete for club Championship combined with normal 18 hole play.
URL:https://saturdaygolfnuts.com/event/rancho-murieta/
LOCATION:Rancho Murieta Country Club\, 7000 Alameda Dr\, Rancho Murieta\, CA\, 95683\, United States
CATEGORIES:SGN Club Championship
END:VEVENT
BEGIN:VEVENT
DTSTART;TZID=America/Los_Angeles:20261226T100000
DTEND;TZID=America/Los_Angeles:20261226T160000
DTSTAMP:20260423T144932
CREATED:20241217T222210Z
LAST-MODIFIED:20260105T203651Z
UID:5680-1798279200-1798300800@saturdaygolfnuts.com
SUMMARY:Two Person Scramble @ Bing Maloney
DESCRIPTION:
URL:https://saturdaygolfnuts.com/event/two-person-scramble-bing-maloney/
LOCATION:Bing Maloney Golf Course\, 6801 Freeport Blvd\, Sacramento\, CA\, 95822\, United States
CATEGORIES:Off Season 18 hole events
END:VEVENT
END:VCALENDAR