BEGIN:VCALENDAR
VERSION:2.0
PRODID:-//Come Play With The Saturday Golf Nuts - ECPv6.15.20//NONSGML v1.0//EN
CALSCALE:GREGORIAN
METHOD:PUBLISH
X-WR-CALNAME:Come Play With The Saturday Golf Nuts
X-ORIGINAL-URL:https://saturdaygolfnuts.com
X-WR-CALDESC:Events for Come Play With The Saturday Golf Nuts
REFRESH-INTERVAL;VALUE=DURATION:PT1H
X-Robots-Tag:noindex
X-PUBLISHED-TTL:PT1H
BEGIN:VTIMEZONE
TZID:America/Los_Angeles
BEGIN:DAYLIGHT
TZOFFSETFROM:-0800
TZOFFSETTO:-0700
TZNAME:PDT
DTSTART:20250309T100000
END:DAYLIGHT
BEGIN:STANDARD
TZOFFSETFROM:-0700
TZOFFSETTO:-0800
TZNAME:PST
DTSTART:20251102T090000
END:STANDARD
BEGIN:DAYLIGHT
TZOFFSETFROM:-0800
TZOFFSETTO:-0700
TZNAME:PDT
DTSTART:20260308T100000
END:DAYLIGHT
BEGIN:STANDARD
TZOFFSETFROM:-0700
TZOFFSETTO:-0800
TZNAME:PST
DTSTART:20261101T090000
END:STANDARD
BEGIN:DAYLIGHT
TZOFFSETFROM:-0800
TZOFFSETTO:-0700
TZNAME:PDT
DTSTART:20270314T100000
END:DAYLIGHT
BEGIN:STANDARD
TZOFFSETFROM:-0700
TZOFFSETTO:-0800
TZNAME:PST
DTSTART:20271107T090000
END:STANDARD
END:VTIMEZONE
BEGIN:VEVENT
DTSTART;TZID=America/Los_Angeles:20260103T070000
DTEND;TZID=America/Los_Angeles:20260103T100000
DTSTAMP:20260423T172044
CREATED:20220316T051725Z
LAST-MODIFIED:20260113T041243Z
UID:5196-1767423600-1767434400@saturdaygolfnuts.com
SUMMARY:9 Holes @ Wildhawk (Sunrise)
DESCRIPTION:
URL:https://saturdaygolfnuts.com/event/9-holes-wildhawk-sunrise-7/
LOCATION:WildHawk Golf Course\, 7713 Vineyard Rd\, Sacramento\, CA\, 95829\, United States
CATEGORIES:Off Season 9 hole events
END:VEVENT
BEGIN:VEVENT
DTSTART;TZID=America/Los_Angeles:20260110T060000
DTEND;TZID=America/Los_Angeles:20260110T090000
DTSTAMP:20260423T172044
CREATED:20220316T052443Z
LAST-MODIFIED:20260113T041325Z
UID:5208-1768024800-1768035600@saturdaygolfnuts.com
SUMMARY:9 Holes @ Bartley (Sunrise)
DESCRIPTION:
URL:https://saturdaygolfnuts.com/event/9-holes-bartley-sunrise-6/
LOCATION:Bartley Cavanaugh Golf Course\, 8301 Freeport Blvd\, Sacramento\, CA\, 95832\, United States
CATEGORIES:Off Season 9 hole events
END:VEVENT
BEGIN:VEVENT
DTSTART;TZID=America/Los_Angeles:20260117T070000
DTEND;TZID=America/Los_Angeles:20260117T100000
DTSTAMP:20260423T172044
CREATED:20220316T052042Z
LAST-MODIFIED:20260113T041138Z
UID:5200-1768633200-1768644000@saturdaygolfnuts.com
SUMMARY:9 Holes at Bing Maloney (Sunrise)
DESCRIPTION:
URL:https://saturdaygolfnuts.com/event/9-holes-bartley-sunrise-2/
LOCATION:Bing Maloney Golf Course\, 6801 Freeport Blvd\, Sacramento\, CA\, 95822\, United States
CATEGORIES:Off Season 9 hole events
END:VEVENT
BEGIN:VEVENT
DTSTART;TZID=America/Los_Angeles:20260124T100000
DTEND;TZID=America/Los_Angeles:20260124T180000
DTSTAMP:20260423T172044
CREATED:20230813T034846Z
LAST-MODIFIED:20260105T212837Z
UID:5494-1769248800-1769277600@saturdaygolfnuts.com
SUMMARY:Any Two clubs & a putter 18 Holes @ Bing Maloney 10:00 am
DESCRIPTION:
URL:https://saturdaygolfnuts.com/event/two-player-scramble/
LOCATION:Bing Maloney Golf Course\, 6801 Freeport Blvd\, Sacramento\, CA\, 95822\, United States
CATEGORIES:Off Season 18 hole events
END:VEVENT
BEGIN:VEVENT
DTSTART;TZID=America/Los_Angeles:20260131T070000
DTEND;TZID=America/Los_Angeles:20260131T220000
DTSTAMP:20260423T172044
CREATED:20230813T035156Z
LAST-MODIFIED:20260113T041112Z
UID:5496-1769842800-1769896800@saturdaygolfnuts.com
SUMMARY:9 Holes @ Bing Maloney (Sunrise)
DESCRIPTION:
URL:https://saturdaygolfnuts.com/event/moving-on-up-event/
LOCATION:Bing Maloney Golf Course\, 6801 Freeport Blvd\, Sacramento\, CA\, 95822\, United States
CATEGORIES:Off Season 9 hole events
END:VEVENT
END:VCALENDAR